{"text_format":"2","workbook":"xlsx","n_sheets":3,"sheets":["申请表（请勿更改表格！）","登记表","Sheet1"],"not_rendered":{"charts":0,"images":0,"macros":0,"external_links":0,"defined_names":0,"comments":0,"pivot_tables":0},"unopened":[],"bounds":{"document_bytes":16777216,"sheet_cells":100000,"run_cost":"one","rows_first":2000,"rows_last":500,"rows_between":2000,"halvings":0,"cell_chars":16384,"cell_head_chars":4096},"cells_cut":0,"cells_raw":0,"read":"whole","date_system":"1900"}

{"sheet":"申请表（请勿更改表格！）","index":0,"n_rows":28,"n_cols":8,"rows_kept":28,"cut":false,"hidden":false,"merged":[[0,0,0,8],[1,1,1,4],[1,5,1,6],[1,7,1,8],[2,1,2,4],[2,5,2,6],[2,7,2,8],[3,1,3,4],[3,5,3,6],[3,7,3,8],[4,1,4,4],[4,5,4,6],[4,7,4,8],[5,1,5,3],[5,4,5,5],[5,6,5,8],[6,1,6,3],[6,4,6,5],[6,6,6,8],[7,2,7,8],[8,2,8,8],[9,1,9,8],[10,1,10,2],[10,3,10,4],[10,5,10,6],[10,7,10,8],[11,1,11,2],[11,3,11,4],[11,5,11,6],[11,7,11,8],[12,2,12,3],[13,2,13,3],[14,2,14,3],[15,1,15,4],[15,5,15,6],[15,7,15,8],[18,2,18,4],[18,5,18,6],[18,7,18,8],[19,2,19,4],[19,5,19,6],[19,7,19,8],[20,0,20,8],[21,0,21,8],[22,0,22,8],[23,0,23,8],[24,0,24,8],[25,0,25,8],[26,0,26,8],[27,0,27,8],[10,0,11,0],[12,0,14,0],[16,0,18,0],[12,1,14,1],[16,1,17,1],[12,5,14,6],[16,2,17,4],[16,5,17,6],[16,7,17,8]]}
["山东省国家知识产权保护中心\n专利快速预审服务备案申请表"]
["申请单位",{"$nulls":4},"法定代表人"]
["统一社会信用代码",{"$nulls":4},"主营业务"]
["所属行业",{"$nulls":4},"邮编"]
["地址",{"$nulls":4},"所属市县"]
["联系人",null,null,null,"手机"]
["固定电话",null,null,null,"电子邮箱"]
["单位性质",null,"单位性质：国有企业/民营企业/科研院所/高校/其他"]
["单位类型",null,"单位类型：大型企业/中型企业/小微企业/双创企业/高校/科研院所"]
["完成费减\n资格备案","(   )是      (   )否   （请根据是/否完成填入√）"]
["单位人数","合计",null,"管理人员",null,"研发人员",null,"普通员工"]
[]
["专利数量","有效量（件）","发明",null,null,"2023年计划\n申请量（件）",null,"发明"]
[null,null,"实用新型",{"$nulls":4},"实用新型"]
[null,null,"外观设计",{"$nulls":4},"外观设计"]
["申请专利主要IPC分类"," ",null,null,null,"外观设计主要洛迦诺分类"]
["知识产权运用","转化实施数量（件）","许可数量\n（件）",null,null,"转让数量\n（件）",null,"质押融资数量（件）/融资金额（万元）"]
[]
[{"$nulls":7}," "]
["知识产权\n维权次数","行政机关\n或法院（宗）",null,null,null,"自行和解（宗）",null," "]
["     申请专利均为本申请主体自主研发产品。"]
["     保证遵守相关知识产权法律法规，维护自己合法权益同时尊重他人的知识产权，不侵犯他人相关知识产权。"]
["申请主体法人代表签名及单位盖章："]
[]
["                                                     年   月   日"]
["中国（山东）知识产权保护中心专利快速审查确权业务备案意见及签章："]
[]
["备注：本EXCEL共有申请表和登记表两个工作页，登记表直接提取申请表中相关内容生成，申请人仅需填写申请表中内容即可，且不得改变表格形式。"]

{"sheet":"登记表","index":1,"n_rows":3,"n_cols":34,"rows_kept":3,"cut":false,"hidden":false,"merged":[[0,0,0,33],[1,30,1,31],[2,30,2,31]]}
[" 山东省国家知识产权保护中心专利快速预审服务备案申请表"]
["申请单位","法定代表人","统一社会信用代码","主营业务","所属行业","邮编","地址","所属市县","联系人","手机","固定电话","电子邮箱","单位性质","单位类型","完成费减资格备案","单位人数合计","管理人员","研发人员","普通员工","发明专利有效量","实用新型专利有效量","外观设计专利有效量","2023年计划\n申请量（件）-发明申请量","2023年计划\n申请量（件）-实用新型申请量","2023年计划\n申请量（件）-外观设计申请量","申请专利主要IPC分类","外观设计主要洛迦诺分类","转化实施数量（件）","许可数量\n（件）","转让数量（件）","质押融资数量（件）/融资金额（万元）",null,"知识产权维权次数\n（法院/机关）","知识产权维权次数\n（自行和解）"]
[{"$f":"'申请表（请勿更改表格！）'!B2","v":0},{"$f":"'申请表（请勿更改表格！）'!H2","v":0},{"$f":"'申请表（请勿更改表格！）'!B3","v":0},{"$f":"'申请表（请勿更改表格！）'!H3","v":0},{"$f":"'申请表（请勿更改表格！）'!B4","v":0},{"$f":"'申请表（请勿更改表格！）'!H4","v":0},{"$f":"'申请表（请勿更改表格！）'!B5","v":0},{"$f":"'申请表（请勿更改表格！）'!H5","v":0},{"$f":"'申请表（请勿更改表格！）'!B6","v":0},{"$f":"'申请表（请勿更改表格！）'!G6","v":0},{"$f":"'申请表（请勿更改表格！）'!B7","v":0},{"$f":"'申请表（请勿更改表格！）'!G7","v":0},{"$f":"'申请表（请勿更改表格！）'!B8","v":0},{"$f":"'申请表（请勿更改表格！）'!B9","v":0},{"$f":"'申请表（请勿更改表格！）'!B10","v":"(   )是      (   )否   （请根据是/否完成填入√）"},{"$f":"'申请表（请勿更改表格！）'!B12","v":0},{"$f":"'申请表（请勿更改表格！）'!D12","v":0},{"$f":"'申请表（请勿更改表格！）'!F12","v":0},{"$f":"'申请表（请勿更改表格！）'!H12","v":0},{"$f":"'申请表（请勿更改表格！）'!E13","v":0},{"$f":"'申请表（请勿更改表格！）'!E14","v":0},{"$f":"'申请表（请勿更改表格！）'!E15","v":0},{"$f":"'申请表（请勿更改表格！）'!I13","v":0},{"$f":"'申请表（请勿更改表格！）'!I14","v":0},{"$f":"'申请表（请勿更改表格！）'!I15","v":0},{"$f":"'申请表（请勿更改表格！）'!B16","v":" "},{"$f":"'申请表（请勿更改表格！）'!H16","v":0},{"$f":"'申请表（请勿更改表格！）'!B19","v":0},{"$f":"'申请表（请勿更改表格！）'!C19","v":0},{"$f":"'申请表（请勿更改表格！）'!F19","v":0},{"$f":"'申请表（请勿更改表格！）'!H19","v":" "},null,{"$f":"'申请表（请勿更改表格！）'!C20","v":0},{"$f":"'申请表（请勿更改表格！）'!H20","v":" "}]

{"sheet":"Sheet1","index":2,"n_rows":7,"n_cols":4,"rows_kept":7,"cut":false,"hidden":true,"merged":[]}
[]
[]
[]
[]
[]
[null,null,null,"海洋"]
[null,null,null,"新一代信息技术"]